BEGIN:VCALENDAR
VERSION:2.0
PRODID:-//wp-events-plugin.com//7.2.3.1//EN
TZID:Europe/Amsterdam
X-WR-TIMEZONE:Europe/Amsterdam
BEGIN:VEVENT
UID:1630@cultuur023.nl
DTSTART;TZID=Europe/Amsterdam:20260307T120000
DTEND;TZID=Europe/Amsterdam:20260426T170000
DTSTAMP:20260219T124528Z
URL:https://cultuur023.nl/cultuuragenda/supporting-acts/
SUMMARY:Supporting Act(s)
DESCRIPTION:2026 is het startschot van een residency periode voor een nieuw
 e expositie gemaakt door kunstenaars en voormalige co-directeuren Platform
  BK: Jeannette Slütter en Harriet Rose Morley\, waarbij de kunstenaars bi
 j Nieuwe Vide de kans krijgen om nieuwe kunstwerken te maken. De expositie
  zal ook over de tijd veranderen. 
ATTACH;FMTTYPE=image/jpeg:https://cultuur023.nl/wp-content/uploads/2026/02
 /A0-poster-expo-1-v2-klooi-versie-website-scaled-e1769599326542.jpg
CATEGORIES:Expositie,lhbtiq+ minded,Beeldende Kunst
LOCATION:Nieuwe Vide Artspace\, Energieplein 69\, Haarlem\, 2031 TC\, Neder
 land
GEO:52.386243;4.65148
X-APPLE-STRUCTURED-LOCATION;VALUE=URI;X-ADDRESS=Energieplein 69\, Haarlem\,
  2031 TC\, Nederland;X-APPLE-RADIUS=100;X-TITLE=Nieuwe Vide Artspace:geo:5
 2.386243,4.65148
END:VEVENT
BEGIN:VTIMEZONE
TZID:Europe/Amsterdam
X-LIC-LOCATION:Europe/Amsterdam
BEGIN:STANDARD
DTSTART:20251026T020000
TZOFFSETFROM:+0200
TZOFFSETTO:+0100
TZNAME:CET
END:STANDARD
BEGIN:DAYLIGHT
DTSTART:20260329T030000
TZOFFSETFROM:+0100
TZOFFSETTO:+0200
TZNAME:CEST
END:DAYLIGHT
END:VTIMEZONE
END:VCALENDAR