BEGIN:VCALENDAR
VERSION:2.0
PRODID:-//wp-events-plugin.com//7.2.3.1//EN
TZID:Europe/Amsterdam
X-WR-TIMEZONE:Europe/Amsterdam
BEGIN:VEVENT
UID:1714@cultuur023.nl
DTSTART;TZID=Europe/Amsterdam:20260412T130000
DTEND;TZID=Europe/Amsterdam:20260523T170000
DTSTAMP:20260419T120120Z
URL:https://cultuur023.nl/cultuuragenda/of-zal-ik-zachter-praten/
SUMMARY:Of zal ik zachter praten?
DESCRIPTION:Expositie van Hazel van Berkel en Sanne Kabalt. Het werk is bee
 ldend\, maar taal speelt een prominente rol. De tentoonstelling is het res
 ultaat van ontmoetingen tussen beide kunstenaars en wandelingen die ze sam
 en maakten.
ATTACH;FMTTYPE=image/jpeg:https://cultuur023.nl/wp-content/uploads/2026/04
 /beeldvoorflyerSanne2_klein.jpg
CATEGORIES:Expositie,Beeldende Kunst
LOCATION:37PK Platform voor Kunsten\, Groot Heiligland 37\, Haarlem\, 2011 
 EP\, Nederland
GEO:52.377229;4.634231
X-APPLE-STRUCTURED-LOCATION;VALUE=URI;X-ADDRESS=Groot Heiligland 37\, Haarl
 em\, 2011 EP\, Nederland;X-APPLE-RADIUS=100;X-TITLE=37PK Platform voor Kun
 sten:geo:52.377229,4.634231
END:VEVENT
BEGIN:VTIMEZONE
TZID:Europe/Amsterdam
X-LIC-LOCATION:Europe/Amsterdam
BEGIN:DAYLIGHT
DTSTART:20260329T030000
TZOFFSETFROM:+0100
TZOFFSETTO:+0200
TZNAME:CEST
END:DAYLIGHT
END:VTIMEZONE
END:VCALENDAR