BEGIN:VCALENDAR
VERSION:2.0
PRODID:-//wp-events-plugin.com//7.2.3.1//EN
TZID:Europe/Amsterdam
X-WR-TIMEZONE:Europe/Amsterdam
BEGIN:VEVENT
UID:1711@cultuur023.nl
DTSTART;TZID=Europe/Amsterdam:20260429T100000
DTEND;TZID=Europe/Amsterdam:20260429T120000
DTSTAMP:20260414T132348Z
URL:https://cultuur023.nl/cultuuragenda/lego-en-spelletjesochtend-in-het-a
 bc/
SUMMARY:Lego- en spelletjesochtend in het ABC
DESCRIPTION:Je kunt weer eindeloos komen bouwen met LEGO-stenen en we halen
  dit keer ook diverse spellen uit de Museumnacht Kids van zolder\, waarond
 er het grote Dr.Bibberspel.
ATTACH;FMTTYPE=image/jpeg:https://cultuur023.nl/wp-content/uploads/2026/04
 /Foto-Lego-promo-2026-ABC-Architectuurcentrum-Haarlem.jpg
CATEGORIES:Erfgoed &amp; Stad,Jeugd
LOCATION:ABC Architectuurcentrum\, Groot Heiligland 47\, Haarlem\, 2011 EP\
 , Nederland
GEO:52.377089;4.634079
X-APPLE-STRUCTURED-LOCATION;VALUE=URI;X-ADDRESS=Groot Heiligland 47\, Haarl
 em\, 2011 EP\, Nederland;X-APPLE-RADIUS=100;X-TITLE=ABC Architectuurcentru
 m:geo:52.377089,4.634079
END:VEVENT
BEGIN:VTIMEZONE
TZID:Europe/Amsterdam
X-LIC-LOCATION:Europe/Amsterdam
BEGIN:DAYLIGHT
DTSTART:20260329T030000
TZOFFSETFROM:+0100
TZOFFSETTO:+0200
TZNAME:CEST
END:DAYLIGHT
END:VTIMEZONE
END:VCALENDAR