BEGIN:VCALENDAR
VERSION:2.0
PRODID:-//wp-events-plugin.com//7.2.3.1//EN
TZID:Europe/Amsterdam
X-WR-TIMEZONE:Europe/Amsterdam
BEGIN:VEVENT
UID:437@cultuur023.nl
DTSTART;TZID=Europe/Amsterdam:20240414T110000
DTEND;TZID=Europe/Amsterdam:20240414T121500
DTSTAMP:20240304T145616Z
URL:https://cultuur023.nl/cultuuragenda/laura-oomens-viool-ksenia-kouzmenk
 o-piano/
SUMMARY:Laura Oomens\, viool + Ksenia Kouzmenko\, piano
DESCRIPTION:Laura Oomens - viool en Ksenia Kouzmenko piano\nMet werken van 
 Kurtág \, Beethoven\, Bartók\, Kaprálová &amp\; Janáček\n\nLAURA OOM
 ENS VIOOL\nAls dochter van Nederlandse professionele musici groeide Laura 
 op in Duitsland. Al op vierjarige leeftijd stond ze in vuur en vlam voor d
 e viool en kreeg ze les van haar vader\, violist Radboud Oomens. Acht jaar
  later werd zij leerlinge van Herman Krebbers\, van wie ze tot aan haar to
 elating voor het conservatorium les kreeg.\nLaura vervolgde 1998 haar stud
 ie in Berlijn aan de Universität der Künste Berlin bij Uwe- Martin Haibe
 rg\, waar ze in 2003 haar “Diplom” behaalde met een 9. Ze sloot haar s
 tudie ’cum laude’ af met een Master of Music Performance in Londen bij
  David Takeno in 2004.\nTijdens en ook na haar studie hoofdvak viool was L
 aura remplaçant in verschillende gerenommeerde Duitse orkesten\, zoals he
 t Deutsche Sinfonie Orchester Berlin\, het Rundfunk Sinfonieorchester Berl
 in en het NDR Sinfonieorchester Hamburg. Ze speelde ook in kleinere ensemb
 les als de Kammerakademie Potsdam en het Scottish Chamber Orchestra.\nVana
 f 2007 was Laura gedurende drie jaar verbonden aan het Residentie Orkest D
 en Haag als eerste violiste\, in het laatste jaar als tweede concertmeeste
 r.\nIn 2009 richtte ze samen met een Duitse compagnon het Unison Chamber M
 usic Festival in Sangerhausen op\, dat twee prachtige edities heeft mogen 
 beleven.\nDe liefde voor de kamermuziek hebben Laura onder meer naar IMS P
 russia Cove\, het Gaia Music Festival en naar diverse festivals in Nederla
 nd gebracht.\nVan 2012 tot 2016 maakte Laura deel uit van het Vespucci Str
 ijkkwartet\, dat in 2015 zijn eerste CD uitbracht.\nSinds 2012 is Laura li
 d van het Nederlands Kamerorkest. Ook is ze af en toe te gast als aanvoerd
 er en concertmeester bij andere orkesten en ensembles.\nMet haar eigen ser
 ie ’Close–up Classics’ verzorgt Laura concerten in wisselende bezett
 ingen op verrassende locaties. In 2020 en gedeeltelijk in 2021 gingen deze
  concerten onder de naam anderhalvemeterconcerten.nl voor de periode waari
 n de 1\,5 meter afstand van belang was.\nHaar eigen coaching praktijk is s
 peciaal voor musici die op zoek zijn naar nieuwe inspiratie en zowel techn
 ische als muzikale ontwikkeling.\nIn de zomer van 2022 debuteerde het “O
 omens Trio” tijdens een concertserie in München\, Duitsland. Een kamerm
 uzikale ontmoeting met haar vader\, violist Radboud Oomens en haar zus\, c
 elliste Andrea Millett\, met Laura op de altviool.\nDaarnaast vonden de ee
 rste twee edities van CONNECT! plaats\, een verbindend muziekevenement in 
 Haarlem\, waarvan Laura de bedenker en initiator is. In 2023 zal CONNECT! 
 zijn derde editie beleven.\nMet pianiste Ksenia Kouzmenko zal Laura in 202
 3 een reeks duo-recitals geven.\n\nDe viool die Laura met veel liefde en p
 lezier bespeelt is een Joseph Gagliano uit 1779\, die haar ter beschikking
  is gesteld door het Nationaal Muziekinstrumenten Fonds. De recent voor La
 ura aangekochte altviool is van de hand van Ritz Iwata uit Amstelveen. De 
 altviool strijkstok van Daniël Ter Berg is eveneens aan haar ter beschikk
 ing gesteld door het Nationaal Muziekinstrumenten Fonds.\n\n\nKSENIA KOUZM
 ENKO PIANO\nKsenia Kouzmenko wordt internationaal geroemd om haar gevoelig
 e en technisch indrukwekkende pianospel en is zeer geliefd als kamermuziek
 partner.\n\nKsenia Kouzmenko werd geboren in Minsk\, Belarus\, als dochter
  van een pianistenechtpaar. Ze begon haar piano-opleiding bij Vladimir Zar
 etski en Grigory Shershevski aan het Nationaal Muziekcollege van Belarus. 
 Op twaalfjarige leeftijd debuteerde ze als soliste met orkest. Ze studeerd
 e af met onderscheiding aan de Nationale Muziekakademie van Belarus bij Ig
 or Olovnikov. Daarna studeerde ze bij Naum Grubert aan het Koninklijk Cons
 ervatorium in Den Haag. Ze volgde vele masterclasses bij o.a. Abbey Simon\
 , György Sándor\, Vazha Chachava\, Lazar Berman\, György Kurtág\, Earl
  Wild\, Charles Rosen\, Karl-Heinz Kammerling\, Ivan Moravec en naam deel 
 aan Bach-interpretatiecursussen bij professor Walter Blankenheim. In 1997 
 werd ze uitgenodigd om als fellow-student deel te nemen aan het Zomerfesti
 val in Tanglewood (V.S.).\n\nKsenia Kouzmenko speelde met het Nationaal Sy
 mfonieorkest van Belarus\, het Zeeuws Orkest\, het Brabants Orkest\, het C
 ollegium Instrumentale Brugense\, het Valeriusensemble en het Nederlands B
 lazersensemble. Ze soleerde in het Kurtágproject van het Koninklijk Conse
 rvatorium onder leiding van Reinbert de Leeuw. Op aanbeveling van György 
 Kurtág zelf speelde ze zijn "...quasi una fantasia..." met het Orchestra 
 della Svizzerra italiana\, onder de directie van Olivier Cuendet\, tijdens
  het Luganofestival in Zwitserland. Ksenia maakte opnames voor de National
 e Omroep van Belarus\, de Nederlandse televisie\, de BRT\, Classic FM\, de
  Concertzender en is regelmatig te beluisteren op Radio 4 en Brava.\n\nZe 
 treedt op in Nederland\, België\, Duitsland\, Zwitserland\, Engeland\, Sp
 anje\, Italië\, Rusland\, Slovenië\, Griekenland. Sinds 1999 geeft ze le
 s aan het Koninklijk Conservatorium en de School voor Jong Talent in Den H
 aag.\n\nKsenia Kouzmenko speelt soloconcerten en kamermuziek in alle mogel
 ijke bezettingen. In ruim 30 jaar heeft ze een enorm rijk repertoire opgeb
 ouwd\, van Bach tot Kurtág. Ze zoekt continu naar nieuwe composities en m
 aakt graag ongewone\, inspirerende programma’s. Zo zijn er een aantal pr
 ojecten ontstaan met Tsjechische muziek\, met o.a. wereldpremières van ee
 n aantal stukken uit de XXste eeuw. Ook heeft ze zich verdiept in het besp
 elen van de XIXde-eeuwse Érard-vleugel met zijn bijzondere klankeigenscha
 ppen.
ATTACH;FMTTYPE=image/jpeg:https://cultuur023.nl/wp-content/uploads/2024/03
 /20231223152017-klassiek20240407.jpg
CATEGORIES:Muziek
LOCATION:Societeit De Vereeniging\, Zijlweg 1\, Haarlem\, Nederland
GEO:52.383797;4.629161
X-APPLE-STRUCTURED-LOCATION;VALUE=URI;X-ADDRESS=Zijlweg 1\, Haarlem\, Neder
 land;X-APPLE-RADIUS=100;X-TITLE=Societeit De Vereeniging:geo:52.383797,4.6
 29161
END:VEVENT
BEGIN:VTIMEZONE
TZID:Europe/Amsterdam
X-LIC-LOCATION:Europe/Amsterdam
BEGIN:DAYLIGHT
DTSTART:20240331T030000
TZOFFSETFROM:+0100
TZOFFSETTO:+0200
TZNAME:CEST
END:DAYLIGHT
END:VTIMEZONE
END:VCALENDAR